BEGIN:VCALENDAR
VERSION:2.0
CALSCALE:GREGORIAN
PRODID:-//MyApp//Calendar 1.0//EN
BEGIN:VEVENT
METHOD:PUBLISH
UID:8805@regionalniportaly.cz
DTSTAMP:20260422T213845Z
DTSTART;VALUE=DATE:20170204
DTEND;VALUE=DATE:20170205
SUMMARY:Jak Švédové l.p.1645 Brno marně dobývali  aneb bylo nebylo
DESCRIPTION:
LOCATION:Dolní Kounice
END:VEVENT
END:VCALENDAR