BEGIN:VCALENDAR
VERSION:2.0
CALSCALE:GREGORIAN
PRODID:-//MyApp//Calendar 1.0//EN
BEGIN:VEVENT
METHOD:PUBLISH
UID:8698@regionalniportaly.cz
DTSTAMP:20260423T132509Z
DTSTART;VALUE=DATE:20170107
DTEND;VALUE=DATE:20170108
SUMMARY:Tříkrálová cyklovyjížďka
DESCRIPTION:Město Rajhrad Vás zve na\n20. společné setkání rajhradských cyklistů\n\nsobota 7. ledna 2017\nTŔÍKRÁLOVÁ CYKLOVYJÍŽĎKA\n\nsraz: 10.00 hod. před Restaurací U Opla\ncíl:    11.30 hod. v Restauraci Na Kině
LOCATION:Rajhrad
END:VEVENT
END:VCALENDAR