BEGIN:VCALENDAR
VERSION:2.0
CALSCALE:GREGORIAN
PRODID:-//MyApp//Calendar 1.0//EN
BEGIN:VEVENT
METHOD:PUBLISH
UID:8693@regionalniportaly.cz
DTSTAMP:20260422T183055Z
DTSTART;VALUE=DATE:20170114
DTEND;VALUE=DATE:20170115
SUMMARY: Reprezentační ples města Pohořelice
DESCRIPTION:
LOCATION:Pohořelice
END:VEVENT
END:VCALENDAR