BEGIN:VCALENDAR
VERSION:2.0
CALSCALE:GREGORIAN
PRODID:-//MyApp//Calendar 1.0//EN
BEGIN:VEVENT
METHOD:PUBLISH
UID:8688@regionalniportaly.cz
DTSTAMP:20260422T182557Z
DTSTART;VALUE=DATE:20170128
DTEND;VALUE=DATE:20170129
SUMMARY:Tradiční společenský ples
DESCRIPTION:K tanci a poslechu hraje hudební skupina DREAMS \nVystoupí TK Můj domov Dolní Kounice & TK Orion Oslavany\nVstupné: 130\,- (bez večeře)\, 220\,- (s večeří)\nSlosování o ceny\, občerstvení...\nPředprodej vstupenek od 16.1.2017 na TIC Dolní Kounice
LOCATION:Dolní Kounice
END:VEVENT
END:VCALENDAR