BEGIN:VCALENDAR
VERSION:2.0
CALSCALE:GREGORIAN
PRODID:-//MyApp//Calendar 1.0//EN
BEGIN:VEVENT
METHOD:PUBLISH
UID:8634@regionalniportaly.cz
DTSTAMP:20260422T195956Z
DTSTART;VALUE=DATE:20161224
DTEND;VALUE=DATE:20161225
SUMMARY:Betlémské světlo
DESCRIPTION:Na Štědrý den 24. 12. 2016 od 9:00 do 11:30 si můžete přijít pro Betlémské světlo do skautské klubovny na Náměstí Svobody 79 v Pohořelicích (hotel Pfann).\n\nSkauti také budou v tomto čase procházet městem a předají tento plamen Vánoc každému\, kdo na ně zavolá. Svou cestu budou oznamovat zvoněním zvonků. Chcete-li\, aby vám přímo zazvonili u dveří\, pošlete\nsvé jméno a adresu na telefonní\nčíslo 774 160 325 nebo na email betlemskesvetlopohorelice@seznam.cz.
LOCATION:Pohořelice
END:VEVENT
END:VCALENDAR