BEGIN:VCALENDAR
VERSION:2.0
CALSCALE:GREGORIAN
PRODID:-//MyApp//Calendar 1.0//EN
BEGIN:VEVENT
METHOD:PUBLISH
UID:8487@regionalniportaly.cz
DTSTAMP:20260422T214708Z
DTSTART;VALUE=DATE:20161209
DTEND;VALUE=DATE:20161210
SUMMARY:Vánoční vystoupení Novoveská štístka
DESCRIPTION:sál Radnice\, začátek v 18.00 hod.
LOCATION:Pohořelice
END:VEVENT
END:VCALENDAR