BEGIN:VCALENDAR
VERSION:2.0
CALSCALE:GREGORIAN
PRODID:-//MyApp//Calendar 1.0//EN
BEGIN:VEVENT
METHOD:PUBLISH
UID:8416@regionalniportaly.cz
DTSTAMP:20260422T195840Z
DTSTART;VALUE=DATE:20161202
DTEND;VALUE=DATE:20161203
SUMMARY:Mikulášská besídka v Pohořelicích
DESCRIPTION:
LOCATION:Pohořelice
END:VEVENT
END:VCALENDAR