BEGIN:VCALENDAR
VERSION:2.0
CALSCALE:GREGORIAN
PRODID:-//MyApp//Calendar 1.0//EN
BEGIN:VEVENT
METHOD:PUBLISH
UID:8330@regionalniportaly.cz
DTSTAMP:20260422T195944Z
DTSTART;VALUE=DATE:20161203
DTEND;VALUE=DATE:20161204
SUMMARY:Vánoční jarmark
DESCRIPTION:Obec Pasohlávky všechny srdečně zve na\n\nVánoční jarmark a rozsvěcování vánočního stromu\,\n\nkteré se uskuteční \nv sobotu 3. prosince 2016 od 15.00 hod.\n\nPřipraveny budou prodejní stánky s vánočním zbožím a občerstvením. Chybět nebude ani Ježíškova pošta a výtvarná dílnička v kulturním domě. Čeká vás také vystoupení dětí z místní knihovny\, a také z mateřské a základní školy. A možná přijde i Mikuláš.  \n\nPřijďte se naladit vánoční atmosférou
LOCATION:Pasohlávky
END:VEVENT
END:VCALENDAR