BEGIN:VCALENDAR
VERSION:2.0
CALSCALE:GREGORIAN
PRODID:-//MyApp//Calendar 1.0//EN
BEGIN:VEVENT
METHOD:PUBLISH
UID:8145@regionalniportaly.cz
DTSTAMP:20260422T183751Z
DTSTART;VALUE=DATE:20161112
DTEND;VALUE=DATE:20161113
SUMMARY:Svatomartinské slavnosti
DESCRIPTION:pozvánka na 4. SVATOMARTINSKÉ SLAVNOSTI\nsobota 12. listopadu 2016\, od 13 hod.\nprostory před restaurací NA KINĚ\nprogram pro děti i dospělé\n\nSvatomartinská sousedská\n– program pro děti a dospělé:\nhraje Evelína\, harmonikářka Terezka\, CM Dukát z Kyjova\nKomedianti na káře\, fireshow\ntradiční soutěž „O nejlepší Rajhradský gulášek“
LOCATION:Rajhrad
END:VEVENT
END:VCALENDAR