BEGIN:VCALENDAR
VERSION:2.0
CALSCALE:GREGORIAN
PRODID:-//MyApp//Calendar 1.0//EN
BEGIN:VEVENT
METHOD:PUBLISH
UID:7865@regionalniportaly.cz
DTSTAMP:20260422T195849Z
DTSTART;VALUE=DATE:20161015
DTEND;VALUE=DATE:20161016
SUMMARY:18. Rajhradský výšlap
DESCRIPTION:klub vodáků V.O.R. Rajhrad zve na\nRAJHRADSKÝ VÝŠLAP\núdolím řeky Bobrůvky za Baronem Trenckem\n\nsobota 15.10.2016\n– sraz v 8.15 hod. na rajhradském nádraží\n– občerstvení s sebou
LOCATION:Rajhrad
END:VEVENT
END:VCALENDAR