BEGIN:VCALENDAR
VERSION:2.0
CALSCALE:GREGORIAN
PRODID:-//MyApp//Calendar 1.0//EN
BEGIN:VEVENT
METHOD:PUBLISH
UID:65787@regionalniportaly.cz
DTSTAMP:20260422T060842Z
DTSTART;VALUE=DATE:20260522
DTEND;VALUE=DATE:20260523
SUMMARY:Mandalorian a Grogu
DESCRIPTION:Zlé Impérium padlo a jeho válečníci zůstávají roztroušeni po celé galaxii. Nově vzniklá Republika se snaží chránit vše\, za co povstalci bojovali\, a proto požádala o pomoc legendárního mandaloriánského lovce odměn Dina Djarina (Pedro Pascal) a jeho mladého učedníka Groga. Film „Star Wars: Mandalorian a Grogu“ režíroval Jon Favreau
LOCATION:Měnín
END:VEVENT
END:VCALENDAR