BEGIN:VCALENDAR
VERSION:2.0
CALSCALE:GREGORIAN
PRODID:-//MyApp//Calendar 1.0//EN
BEGIN:VEVENT
METHOD:PUBLISH
UID:65667@regionalniportaly.cz
DTSTAMP:20260420T220425Z
DTSTART;VALUE=DATE:20260530
DTEND;VALUE=DATE:20260531
SUMMARY:Vojta Violinist // Ponava
DESCRIPTION:Srdečně vás zveme na koncert Vojty&nbsp\;Violinist.&nbsp\;Jeho autorská hudba propojuje keltské melodie\, ethno a world music do jedinečných skladeb\, které vás zavedou do světa rytmů a obrazů přírody.&nbsp\;Vojta&nbsp\;s pomocí looperu tvoří hudební krajiny\, kde se prolínají housle\, didgeridoo\, řecké buzuki\, flétny i perkuse až budete mít pocit\, že hraje celá kapela.&nbsp\;Spolu s ním vystoupí jeho partnerka a zpěvačka Myrith\, která přidává svůj hlas a perkuse\, a tím dodává hudbě jemnost\, ženskou energii a hloubku.&nbsp\;Zazní hudba\, která vás roztančí i dojme…&nbsp\;Vstupné 250\,- v předprodeji\, 300\,- na místě\, zážitky k nezaplacení&nbsp\;&nbsp\;&nbsp\;YT: https://www.youtube.com/watch?v=mfxzTUa0h9QFB: https://www.facebook.com/vojta.violinistweb: https://www.vojtaviolinist.com/ Spotify: https://open.spotify.com/artist/5fSV1RSp4ZMCaQT92XPN0R?si=f-J20E-WRMWEjs0cPlSSmw&nbsp\;
LOCATION:Brno
END:VEVENT
END:VCALENDAR