BEGIN:VCALENDAR
VERSION:2.0
CALSCALE:GREGORIAN
PRODID:-//MyApp//Calendar 1.0//EN
BEGIN:VEVENT
METHOD:PUBLISH
UID:65665@regionalniportaly.cz
DTSTAMP:20260420T143919Z
DTSTART;VALUE=DATE:20260515
DTEND;VALUE=DATE:20260516
SUMMARY:Django Jet // Ponava
DESCRIPTION:Přijďte si užít teplý jarní večer se skvělou hudbou do Lužánek\, a třeba si tu i zatančit! Django Jet je projekt\, který před 12 lety založila skupina brněnských milovníků swingu a swingového tance. Dnes se kapela hudebně zaměřuje na český a francouzský swing i jeho příbuzné hudební specialitky. Hlavní zpěvačka Marie Gilbert narozená v Belgii vás očaruje svým hlasem\, ať už v jejím podání vyslechnete Slunečnici nebo La vie en rose. Kromě zpívaných písní uslyšíte instrumentální gypsy swingové skladby francouzské kytarové legendy Django Reinhardta i autorské kompozice kytaristy Luky Cojhtera.&nbsp\;www.djangojet.czhttps://www.facebook.com/djangojetbrnohttps://youtu.be/itpxM9m9ptc?si=WEM2Gh48FQ_pp4eyhttps://www.facebook.com/share/v/1NtTKWFSST/?mibextid=wwXIfr&nbsp\;Vstupné 150\,- v předprodeji studenti a pakliže máte hluboko do kapsy\, 200\,- základní vstupenka\, 250\,- na místě\, zážitky k nezaplacení 🔥 🔥 🔥
LOCATION:Brno
END:VEVENT
END:VCALENDAR