BEGIN:VCALENDAR
VERSION:2.0
CALSCALE:GREGORIAN
PRODID:-//MyApp//Calendar 1.0//EN
BEGIN:VEVENT
METHOD:PUBLISH
UID:65664@regionalniportaly.cz
DTSTAMP:20260420T183234Z
DTSTART;VALUE=DATE:20260613
DTEND;VALUE=DATE:20260614
SUMMARY:НаРоди
DESCRIPTION:Про це не прийнято говорити. «Ну народила\, як всі\, мабуть\, каже жінка і залишається наодинці зі своєю історією. І тим більше чоловік…батько\, який часто залишається осторонь в цій історії.&nbsp\;Але ми знову йдемо табуйовані теми. І поговоримо про найпрекрасніший і найскладніший момент в житті кожної жінки.&nbsp\;&nbsp\;Це історії\, які варто знати. І варто знати як їх прожити правильно.&nbsp\;Це ваші історії. До зустрічі на репризі 13 червня?&nbsp\;&nbsp\;Де і коли: Brno\, Industra. 18.30Фізичний театр\, авторська пʼєса і постановка Inessa HartmannТривалість: 90 хв.&nbsp\;&nbsp\;&nbsp\;
LOCATION:Brno
END:VEVENT
END:VCALENDAR