BEGIN:VCALENDAR
VERSION:2.0
CALSCALE:GREGORIAN
PRODID:-//MyApp//Calendar 1.0//EN
BEGIN:VEVENT
METHOD:PUBLISH
UID:65645@regionalniportaly.cz
DTSTAMP:20260420T110309Z
DTSTART;VALUE=DATE:20261109
DTEND;VALUE=DATE:20261110
SUMMARY:Jiří Charvát - Jak se stát nikým
DESCRIPTION:Jiří Charvát - Jak se stát nikým&nbsp\;Procitněte s Jiřím Charvátem z vězení ‚já‘Vyzbrojen nejmodernějšími poznatky o vědomí\, neurobiologii mysli\, mechanismech mapování světa\, účinku psychedelik a meditace\, determinismu a svobodné vůli\, ale i humorem a pozorným prožíváním vlastní zkušenosti přiváží známý spisovatel a komik nevídaně srozumitelnou a zábavnou šanci na Probuzení do neduality i do vašeho města.​Zjistíme\, jak a proč vzniká ‚já‘. K čemu je dobré a čím nám naopak ubližuje.Podivíme se\, proč se vlastně identifikujeme zrovna s tím\, s čím se identifikujeme.Pochopíme dynamiku mysli a prohlédneme iluzi svobodné vůle.Demytizujeme meditaci a naučíme meditovat i ty\, co uvěřili\, že to neumějí.Necháme ze zkušenosti odpadnout střed\, abychom spatřili\, že jsme tenhle stav\,ve kterém se všechno samo objevuje.A tím objevíme ne-já\, neoddělenost\, nedualitu a nekonání. A s nimi hluboký klid.A jako bonus: se u toho společně zasmějeme a navzájem obohatíme s podobně naladěnými lidmi\,kteří jsou také už dlouhé roky u vytržení z oné ultimátní otázky: „Kdo jsem?“
LOCATION:Brno
END:VEVENT
END:VCALENDAR