BEGIN:VCALENDAR
VERSION:2.0
CALSCALE:GREGORIAN
PRODID:-//MyApp//Calendar 1.0//EN
BEGIN:VEVENT
METHOD:PUBLISH
UID:65640@regionalniportaly.cz
DTSTAMP:20260420T130428Z
DTSTART;VALUE=DATE:20260429
DTEND;VALUE=DATE:20260430
SUMMARY:MeetUP BEA ČR Brno: Od Inspira po mistrovství v podcastu
DESCRIPTION:MeetUP BEA ČR Brno: 29. 4. 2026 od 9 do 13 hodinMísto: Impact Hub Brno\, Cyrilská 7\, BrnoOd lekcí z Inspira po mistrovství v podcastuPřijďte na byznysový MeetUp Business Excellence Association ČR\, kde se potkají dva světy - byznys s příběhem a podcast jako nástroj zviditelňování.Jakub Stejskal\, zakladatel brněnského studia PromoPeople a tvůrce podcastu Inspiro\, vám otevře zákulisí toho\, jak se buduje projekt\, který za tři roky nasbíral přes 90 epizod s herci\, podnikateli\, sportovci a vědci. Jaké lekce si odnesl z budování Inspira? Co fungovalo\, co ne -&nbsp\;a co by dnes udělal jinak?Monika Kvapilová\, brněnská podnikatelka a tvůrkyně projektu Moni ON AIR připravuje své rozhovory s důležitým cílem:&nbsp\;zviditelnit malé a střední podnikatele. Na MeetUpu se podělí o to\, jak se stát zajímavým hostem\, jak zaznít ve světě podcastů a jak mluvit tak\, aby vás lidé chtěli poslouchat.Dohromady pokryjeme obě strany mikrofonu – pohled tvůrce i pohled hosta.Co si odnesete:• Reálné lessons learned z budování úspěšného podcastu• Jak se dostat do podcastu jako host a proč se to vyplatí• Jak mluvit přesvědčivě a autentickyPřipraveno bude drobné občerstvení i dobrá káva.&nbsp\;&nbsp\;
LOCATION:Brno
END:VEVENT
END:VCALENDAR