BEGIN:VCALENDAR
VERSION:2.0
CALSCALE:GREGORIAN
PRODID:-//MyApp//Calendar 1.0//EN
BEGIN:VEVENT
METHOD:PUBLISH
UID:65630@regionalniportaly.cz
DTSTAMP:20260420T134735Z
DTSTART;VALUE=DATE:20260501
DTEND;VALUE=DATE:20260502
SUMMARY:System Of A Down tribute by Aerials
DESCRIPTION:Nejbláznivější maďarská pocta SOAD míří do Brna! Aerials vám přináší autentickou a silnou tribute show s nejlepšími písněmi\, které kdy System napsali
LOCATION:Brno
END:VEVENT
END:VCALENDAR