BEGIN:VCALENDAR
VERSION:2.0
CALSCALE:GREGORIAN
PRODID:-//MyApp//Calendar 1.0//EN
BEGIN:VEVENT
METHOD:PUBLISH
UID:65629@regionalniportaly.cz
DTSTAMP:20260420T110759Z
DTSTART;VALUE=DATE:20260505
DTEND;VALUE=DATE:20260506
SUMMARY:The MATCH
DESCRIPTION:Už jste někdy viděli basové duo s bicími znít jako plnohodnotný industriální orchestr? Pokud si myslíte\, že víte\, co baskytara dokáže\, zamyslete se znovu.
LOCATION:Brno
END:VEVENT
END:VCALENDAR