BEGIN:VCALENDAR
VERSION:2.0
CALSCALE:GREGORIAN
PRODID:-//MyApp//Calendar 1.0//EN
BEGIN:VEVENT
METHOD:PUBLISH
UID:65603@regionalniportaly.cz
DTSTAMP:20260420T114209Z
DTSTART;VALUE=DATE:20260501
DTEND;VALUE=DATE:20260502
SUMMARY:Erotic Slam Brno
DESCRIPTION:První máj se slam poetry\, Máchu nečekejte!&nbsp\;Čeká nás výjimečný slamový večer\, který boří jedno ze základních pravidel slam poetry - kostýmy tentokrát existují\, avšak jasně definované.Pětice performerů se před vás postaví v županech (ať už běžných\, či svátečních) a ve svých výstupech se bude opírat o téma lásky\, vztahů\, intimity\,… zkrátka čehokoliv\, co si pod pojmem “erotic” můžete představit - lásky čas!&nbsp\;Slovně i oděvem se před vámi obnaží:Večerka\, Bradka\, Empathic\, Holy Viktorie a Strýc Pepin&nbsp\;k předskoku vytáhne ze šuplíku svůj tématický text náš BEN&nbsp\;a večerem tentokrát snad provede opět po čase JENDA PERLA&nbsp\;
LOCATION:Brno
END:VEVENT
END:VCALENDAR