BEGIN:VCALENDAR
VERSION:2.0
CALSCALE:GREGORIAN
PRODID:-//MyApp//Calendar 1.0//EN
BEGIN:VEVENT
METHOD:PUBLISH
UID:65600@regionalniportaly.cz
DTSTAMP:20260420T201711Z
DTSTART;VALUE=DATE:20260609
DTEND;VALUE=DATE:20260610
SUMMARY:Nomantinels: PARA_NONNORMAL
DESCRIPTION:předprodej: od 107\,- do 467\,-V předprodeji je možné zakoupit základní vstupenku\, která je v hodnotě doporučené ceny. Můžete si vybrat i z dalších kategorií označených "pro všechny bez tagů"\, kde si cenu vstupenky vyberete dle vašich možností a preferencí.pre-sale: from 107&nbsp\;CZK to 467&nbsp\;CZKDuring the pre-sale\, you can purchase a standard ticket at the recommended price. You can also choose from other categories labeled "pro všechny bez tagů" where you can select the ticket price based on your means and preferences.&nbsp\;“Lásku tu pokojne nájdi. Koľko len chceš. Prišiel si si pre zážitok a nové city. Tie si však domov odtiaľto nevezmeš! City ostanú tu\, vonku by ťa zabili.“&nbsp\;Čo sú bezpečné miesta pre LGBTIQ+ ľudí?Existujú vôbec miesta\, kde môžu byť sami sebou bez obáv a strachu?&nbsp\;PARA_NONNORMAL skúma gay vzťahy a životy v skrytých priestoroch – heterotópiách\, kde tí\, ktorí cítia potrebu ukrývať svoju identitu\, nachádzajú útočisko. V minulosti to boli mníšske kláštory\, ženské rehole\, rytierske rády\, pirátske lode\, neskôr pánske kluby\, ženské spolky\, tajné bary a salóny. Tieto miesta predstavovali heterotópie – miesta\, kde si LGBTIQ+ ľudia vytvárali stratégie prežitia\, bezpečné prostredie\, aby mohli prežiť a žiť svoje životy napriek nepriazni doby. Inscenácia nás prenáša do šera mestského parku po zotmení\, gej sauny\, online sveta zoznamiek a malého pivničného bytu len pre jedného. Tieto prostredia poskytujú anonymitu alebo bezpečie aj pocit uväznenia\, keďže láska a identita musia zostať skryté.Reagujúc na teroristický útok na Zámockej ulici\, kde boli zavraždení dvaja queer ľudia\, inscenácia zdôrazňuje krehkosť a dôležitosť bezpečných miest pre LGBTIQ+ komunitu.&nbsp\;Námet: Róbert PakanText: Róbert Pakan a kol.Réžia: Alexandra BolfováDramaturgia: Martina HavierováScéna a kostýmy: Anna TicháHudba: KistennLight-design: Boris AdamčíkProdukcia: Simona NagyováPohybová spolupráca: Dávid SeleckýPerformeri: Ľuboš Janák\, Kristián Marcel Jedelský\, Michal Kraus\, Jakub Matejčík\, Filip PavukVizuál a grafika: Eugen KordaFoto: Jakub Kováč___Z verejných zdrojov podporil Fond na podporu umenia.Projekt je financovaný zo zdrojov Európskej únie.Projekt je financovaný z Nadácie mesta Bratislava.&nbsp\;&nbsp\;
LOCATION:Brno
END:VEVENT
END:VCALENDAR