BEGIN:VCALENDAR
VERSION:2.0
CALSCALE:GREGORIAN
PRODID:-//MyApp//Calendar 1.0//EN
BEGIN:VEVENT
METHOD:PUBLISH
UID:65581@regionalniportaly.cz
DTSTAMP:20260420T183330Z
DTSTART;VALUE=DATE:20260521
DTEND;VALUE=DATE:20260522
SUMMARY:Taiwan pomalu a flexibilně
DESCRIPTION:Zvu vás na vyprávění o mé březnové dvoutýdenní cestě po Taiwanu. Cestoval jsem bez spěchu a (téměř) bez plánu. Ukážu vám hlavně severovýchod a východ Taiwanu\, kam mě osud zavedl – historická městečka\, venkov\, rýžová pole\, vodopády a další.&nbsp\;Kromě praktických informací se například dozvíte jak díky náhodě a stylu cestování vznikl jeden z nejhezčích zážitků mé cesty\, jak jde místním tančení verbuňku nebo jak může být na Taiwanu (i pro introverta) snadné se seznámit s&nbsp\;místními.Přednáší: Jan Kuklínek&nbsp\;
LOCATION:Brno
END:VEVENT
END:VCALENDAR