BEGIN:VCALENDAR
VERSION:2.0
CALSCALE:GREGORIAN
PRODID:-//MyApp//Calendar 1.0//EN
BEGIN:VEVENT
METHOD:PUBLISH
UID:65546@regionalniportaly.cz
DTSTAMP:20260420T134700Z
DTSTART;VALUE=DATE:20260718
DTEND;VALUE=DATE:20260719
SUMMARY:Vivaldiho čtvero ročních dob
DESCRIPTION:Čtvero ročních dob při svíčkáchZažijte jeden z nejslavnějších koncertů klasické hudby v jedinečné atmosféře tisíců svíček.Hudba Antonia&nbsp\;Vivaldiho&nbsp\;vás provede proměnami přírody v ikonickém díle&nbsp\;Čtvero ročních dob&nbsp\;– od svěžího jara\, přes bouřlivé léto až po melancholickou zimu. Každá část ožívá s neuvěřitelnou energií a emocemi\, které vás vtáhnou do děje.To vše v podání špičkových hudebníků a v prostředí\, kde světlo svíček vytváří neopakovatelnou atmosféru klidu\, elegance a hlubokého prožitku.Program:Čtvero ročních dob&nbsp\;- Antonio Vivaldi:JaroLétoPodzimZimaMéditace Thais - Jules MassenetVltava - Bedřich SmetanaDostaveníčko - Franz Schubert&amp\; více!&nbsp\; &nbsp\;&nbsp\;Délka koncertu:&nbsp\;65 minutÚčinkuje:&nbsp\;Olomouc Quartet
LOCATION:Brno
END:VEVENT
END:VCALENDAR