BEGIN:VCALENDAR
VERSION:2.0
CALSCALE:GREGORIAN
PRODID:-//MyApp//Calendar 1.0//EN
BEGIN:VEVENT
METHOD:PUBLISH
UID:65545@regionalniportaly.cz
DTSTAMP:20260420T110948Z
DTSTART;VALUE=DATE:20260711
DTEND;VALUE=DATE:20260712
SUMMARY:To nejlepší z filmové hudby
DESCRIPTION:To nejlepší z filmové hudby&nbsp\;Ponořte se do světa nezapomenutelných filmových melodií v podání smyčcového kvarteta. V magické atmosféře svitu tisíce svíček zazní slavné hity z filmů\, které si zamilovaly celé generace – od epických dobrodružství a romantických příběhů až po legendární filmové klasiky.Uslyšíte například:He's the Pirate&nbsp\;(Piráti z Karibiku – Hans Zimmer)Across the stars&nbsp\;(Star Wars: Klony útočí – John Williams)Now we are free&nbsp\;(Gladiátor – Hans Zimmer)Over the Rainbow&nbsp\;(Čaroděj ze země Oz – Harold Arlen)Chevaliers de Sangreal&nbsp\;(Šifra mistra Leonarda – Hans Zimmer)Téma Jamese Bonda&nbsp\;– Monty Normana mnoho dalších…Během 65 minut vás čeká hudební cesta napříč žánry i emocemi – od velkolepých orchestrálních scén přes dojemné balady až po klasické&nbsp\;filmové hity.Účinkuje:&nbsp\;Olomouc QuartetDélka koncertu:&nbsp\;65 minutNechte se unést melodiemi\, které vás vrátí k vašim oblíbeným filmovým okamžikům.&nbsp\;
LOCATION:Brno
END:VEVENT
END:VCALENDAR