BEGIN:VCALENDAR
VERSION:2.0
CALSCALE:GREGORIAN
PRODID:-//MyApp//Calendar 1.0//EN
BEGIN:VEVENT
METHOD:PUBLISH
UID:65543@regionalniportaly.cz
DTSTAMP:20260420T130242Z
DTSTART;VALUE=DATE:20260517
DTEND;VALUE=DATE:20260518
SUMMARY:Diversa dětem: Boža v říši Loutek
DESCRIPTION:Ensemble Opera Diversa zve malé i velké diváky do světa\, kde opera ožívá hravě\, odvážně a s fantazií. Čeká vás trojice originálních představení\, která boří stereotypy a dokazují\, že operní příběhy mohou být stejně napínavé jako komiksové dobrodružství i něžné pohádky.Loutková opera Boža v říši Loutek je určená nejen dětem\, ale i jejich rodičům a dalším divákům všech věkových kategorií. Vznikla na základě autorského libreta inspirovaného nejen klavírním cyklem Loutky Bohuslava Martinů.V příběhu sledujeme myšáka Božu\, který ve snaze najít něco k jídlu opouští svůj svět a náhodou se ocitne ve světě Loutek. Zde se setkává s loutkami Harlekýnem\, Pierotem a Kolombínou\, kteří prožívají své vlastní radosti a strasti. Myšák se dostává do potíží – nejen\, že se nešťastně zamiluje\, ale také je obviněn z jisté „baletozrady“. Přes všechny překážky\, které mu stojí v cestě\, Boža zjistí\, že dobré srdce a odvaha jsou klíčem k překonání jakýchkoliv nesnází. Nakonec se rozhodne obětovat svůj rodinný poklad\, aby zachránil své nové přátele\, a tím si získává jejich uznání i nové zkušenosti. Příběh opery tak nabízí nejen zábavu\, ale také důležité poselství o odvaze a přátelství.Realizační tým:libreto Kateřina Křivánkováhudba Markéta Brothánková\, Bohuslav Martinůrežie Kateřina Křivánkováscéna\, kostýmy a loutky&nbsp\;Sylva Markoválight design Anna Laborovákorepetice\, hudební nastudování Linda Coganová&nbsp\;Osoby a obsazení:Myšák Boža Peter GáčKolombína Aneta BendováHarlekýn Pavel SlivkaPierott Michael Robotka&nbsp\;Hrají:klavír Linda Coganováhousle Anna Neugebauerovápříčná flétna Michaela Kroupová Durajová
LOCATION:Brno
END:VEVENT
END:VCALENDAR