BEGIN:VCALENDAR
VERSION:2.0
CALSCALE:GREGORIAN
PRODID:-//MyApp//Calendar 1.0//EN
BEGIN:VEVENT
METHOD:PUBLISH
UID:65501@regionalniportaly.cz
DTSTAMP:20260420T120227Z
DTSTART;VALUE=DATE:20260505
DTEND;VALUE=DATE:20261007
SUMMARY:Brno živě:
DESCRIPTION:Organizátoři festivalu Brno živě: se spolu s umělci obracejí ke všem návštěvníkům festivalu a kulturních akcí zdarma\, aby zakoupením symbolické vstupenky přispěli Sociálnímu nadačnímu fondu. Všechny koncerty jsou díky Statutárnímu městu Brnu a partnerům zdarma.Přispět lze vstupenkami v hodnotě 100 Kč\, 250 Kč\, 500 Kč\, 1000 Kč\, nebo 5000 Kč.Tato sbírka je realizována díky iniciativě Kultura pomáhá a&nbsp\;smsticket.cz&nbsp\;ve spolupráci se Sociálním nadačním fondem města Brna a Jihomoravského kraje\, na jehož transparentní účet 225782453/0600 poputuje 100% všech vybraných prostředků.Přijďte si užít koncerty a děkujeme za jakoukoliv podporu!
LOCATION:Brno
END:VEVENT
END:VCALENDAR