BEGIN:VCALENDAR
VERSION:2.0
CALSCALE:GREGORIAN
PRODID:-//MyApp//Calendar 1.0//EN
BEGIN:VEVENT
METHOD:PUBLISH
UID:65498@regionalniportaly.cz
DTSTAMP:20260420T183224Z
DTSTART;VALUE=DATE:20260529
DTEND;VALUE=DATE:20260530
SUMMARY:untitled folk festival
DESCRIPTION:𝕦𝕟𝕥𝕚𝕥𝕝𝕖𝕕 𝕗𝕠𝕝𝕜 𝕗𝕖𝕤𝕥𝕚𝕧𝕒𝕝 na Kafaře proběhne 29. a 30. května 2026.Během dvou dnů nás čeká osm koncertů\, z nichž každý nás zavede do trochu jiného prostředí\, než na které jsme normálně zvyklí.&nbsp\;Součástí programu budou také přednášky věnované&nbsp\;folku a písničkářství.Kde se bude hrát: kafarní zahrada\, u kostela sv. Václava\, kafarní terasa\, zahrádka před Kafarou\, spodní patro...&nbsp\;Pátek 29. 5.19:00&nbsp\;Cardo &amp\; Decumanus&nbsp\;20:00&nbsp\;Libor Staněk II.&nbsp\;21.00&nbsp\;Barbora Hora&nbsp\;22.00&nbsp\;Černý tesák&nbsp\;Sobota 30. 5.17.00 Prune&nbsp\;18.00 Markéta Lisá (přednáška)19.00&nbsp\;Družyna20.00 Přednáška II21.00 Člověk krve22.00&nbsp\;Dominik Prok
LOCATION:Brno
END:VEVENT
END:VCALENDAR