BEGIN:VCALENDAR
VERSION:2.0
CALSCALE:GREGORIAN
PRODID:-//MyApp//Calendar 1.0//EN
BEGIN:VEVENT
METHOD:PUBLISH
UID:65462@regionalniportaly.cz
DTSTAMP:20260420T170310Z
DTSTART;VALUE=DATE:20260515
DTEND;VALUE=DATE:20260516
SUMMARY:Retro Dance Party
DESCRIPTION:pátek 15.5.2026&nbsp\;v 19.00 RETRO DANCE PARTY&nbsp\;Je máj\, lásky čas a taky skvělý čas vyrazit na naší májovou retro dance party! Celý večer vám bude hrát stylový DJ VISIBLE\, který vám bude pouštět nejen skvělou muziku\, ale i bubliny\, disko kouli\, světýlka a tekoucí mlhu! Chybět nebude ani fotokoutek plný retro rekvizit\, dobrá nálada a možná dojde i na lásku\, když budete chtít.Co vás v kostce čeká:- magická stage s tekutou mlhou pro odvážné plavkyně a plavce- 1000ce bublin- desítky megabalónů- zábavný fotokoutek- 4 x lístek zdarma od retro módní policie- fosforeskující taneční prvky zdarma- nová světelná i laserová show- stage s vyvýšenými prvky pro nezkrotné tanečníky a tanečnice a mnohé další výhody a sociální jistoty!Chystáme pro vás tentokrát i další překvapení\, ale o těch se dozví jen ti\, se kterými se uvidíme osobně na místě!Tak si přijďte zatrsat a pobavit se. Prostě dobrou náladu s sebou a zase to rozjedeme!Těšíme se na vás!&nbsp\;&nbsp\;
LOCATION:Brno
END:VEVENT
END:VCALENDAR