BEGIN:VCALENDAR
VERSION:2.0
CALSCALE:GREGORIAN
PRODID:-//MyApp//Calendar 1.0//EN
BEGIN:VEVENT
METHOD:PUBLISH
UID:65400@regionalniportaly.cz
DTSTAMP:20260420T183215Z
DTSTART;VALUE=DATE:20260611
DTEND;VALUE=DATE:20260612
SUMMARY:Virginia Delgado (ESP): Concierto flamenco
DESCRIPTION:Hudebně-taneční projekt španělské tanečnice&nbsp\;Virginia Delgado&nbsp\;Concierto Flamenco&nbsp\;zve diváky na strhující cestu napříč Andalusií – regionem\, kde každý kout nese svůj jedinečný flamenkový rukopis.&nbsp\;Tanec Virginie Delgado okouzluje elegancí\, vášní i technickou precizností. Na jevišti ji doprovází trojice vynikajících flamenkových hudebníků: Morenito de Triana\, Matěj Konečný a Václav Greif. Nedílnou součástí jejího projevu je také virtuózní hra na kastaněty\, nástroj neodmyslitelně spjatý se španělskou taneční tradicí.&nbsp\;Virginia Delgado Olmedo se tanci věnuje od dětství\, kdy začínala klasickým baletem. V sedmnácti letech však naplno propadla flamenku\, kterému se od té doby intenzivně věnuje. Současně studovala klasický španělský tanec\, bolero i současný tanec pod vedením významných pedagožek Ely Camino a Anny de la Orden. V osmnácti letech se stala členkou flamenkového ansámblu Triana a později uspěla v prestižní choreografické soutěži v madridském divadle Albéniz. Její choreografie klasického španělského tance byly v roce 2005 oceněny 2. místem v soutěži Roseta Mauri v Barceloně (kategorie Clásico Español).
LOCATION:Brno
END:VEVENT
END:VCALENDAR