BEGIN:VCALENDAR
VERSION:2.0
CALSCALE:GREGORIAN
PRODID:-//MyApp//Calendar 1.0//EN
BEGIN:VEVENT
METHOD:PUBLISH
UID:64244@regionalniportaly.cz
DTSTAMP:20260422T063020Z
DTSTART;VALUE=DATE:20260303
DTEND;VALUE=DATE:20260531
SUMMARY:Výstava Kávová krize
DESCRIPTION:
LOCATION:Vyškov
END:VEVENT
END:VCALENDAR