BEGIN:VCALENDAR
VERSION:2.0
CALSCALE:GREGORIAN
PRODID:-//MyApp//Calendar 1.0//EN
BEGIN:VEVENT
METHOD:PUBLISH
UID:64239@regionalniportaly.cz
DTSTAMP:20260422T030423Z
DTSTART;VALUE=DATE:20260422
DTEND;VALUE=DATE:20260423
SUMMARY:Vyškovské trhy
DESCRIPTION:
LOCATION:Vyškov
END:VEVENT
END:VCALENDAR