BEGIN:VCALENDAR
VERSION:2.0
CALSCALE:GREGORIAN
PRODID:-//MyApp//Calendar 1.0//EN
BEGIN:VEVENT
METHOD:PUBLISH
UID:64234@regionalniportaly.cz
DTSTAMP:20260422T062059Z
DTSTART;VALUE=DATE:20260420
DTEND;VALUE=DATE:20260724
SUMMARY:Svět v krabičce od sirek
DESCRIPTION:Výstava fotografií Andrey Němcové v prostorách KKD.
LOCATION:Vyškov
END:VEVENT
END:VCALENDAR