BEGIN:VCALENDAR
VERSION:2.0
CALSCALE:GREGORIAN
PRODID:-//MyApp//Calendar 1.0//EN
BEGIN:VEVENT
METHOD:PUBLISH
UID:64232@regionalniportaly.cz
DTSTAMP:20260422T081004Z
DTSTART;VALUE=DATE:20260401
DTEND;VALUE=DATE:20260429
SUMMARY:Antikódy a Čteme Havla
DESCRIPTION:Antikódy: Výstava v sále KKD sestavená z nejzajímavějších vizuálních básní\, které Václav Havel vytvářel především v první polovině 60. let. Hravých\, vtipných\, výstižných stejně jako mrazivých. Ve spolupráci s Knihovnou Václava Havla v Praze.\nČteme Havla: Výstava publikací autorů českého disentu v sále KKD. Pořádáme u příležitosti nedožitých 90. narozenin Václava Havla.\nPřístupné mimo konání akcí.
LOCATION:Vyškov
END:VEVENT
END:VCALENDAR