BEGIN:VCALENDAR
VERSION:2.0
CALSCALE:GREGORIAN
PRODID:-//MyApp//Calendar 1.0//EN
BEGIN:VEVENT
METHOD:PUBLISH
UID:64231@regionalniportaly.cz
DTSTAMP:20260422T094329Z
DTSTART;VALUE=DATE:20260430
DTEND;VALUE=DATE:20260501
SUMMARY:Čarodějnický rej
DESCRIPTION:
LOCATION:Vyškov
END:VEVENT
END:VCALENDAR