BEGIN:VCALENDAR
VERSION:2.0
CALSCALE:GREGORIAN
PRODID:-//MyApp//Calendar 1.0//EN
BEGIN:VEVENT
METHOD:PUBLISH
UID:64221@regionalniportaly.cz
DTSTAMP:20260422T080953Z
DTSTART;VALUE=DATE:20260429
DTEND;VALUE=DATE:20260430
SUMMARY:Literární čaj s Michalem Sýkorou
DESCRIPTION:Beseda se spisovatelem a pedagogem Michalem Sýkorou nejen o televizních adaptacích jeho detektivních příběhů. Vstup pro členy Klubu přátel KKD zdarma\, ostatní 50 Kč.\nKnihy autora v prodeji na místě.
LOCATION:Vyškov
END:VEVENT
END:VCALENDAR