BEGIN:VCALENDAR
VERSION:2.0
CALSCALE:GREGORIAN
PRODID:-//MyApp//Calendar 1.0//EN
BEGIN:VEVENT
METHOD:PUBLISH
UID:64220@regionalniportaly.cz
DTSTAMP:20260422T080944Z
DTSTART;VALUE=DATE:20260428
DTEND;VALUE=DATE:20260429
SUMMARY:JUNO – 10 let u planety Jupiter
DESCRIPTION:Přednáška RNDr. Petra Hájka o nových převratných informacích o největší planetě Sluneční soustavy\, kterou soustavně monitorovala sonda JUNO.
LOCATION:Vyškov
END:VEVENT
END:VCALENDAR