BEGIN:VCALENDAR
VERSION:2.0
CALSCALE:GREGORIAN
PRODID:-//MyApp//Calendar 1.0//EN
BEGIN:VEVENT
METHOD:PUBLISH
UID:64219@regionalniportaly.cz
DTSTAMP:20260422T044033Z
DTSTART;VALUE=DATE:20260423
DTEND;VALUE=DATE:20260424
SUMMARY:Vyškov v pohybu – příběhy sportovišť
DESCRIPTION:(Orel\, Sokol\, bazén\, atletický stadion…). Literárně-historická vycházka s Mgr. Pavlínou Dobyškovou. Sraz před knihovnou.
LOCATION:Vyškov
END:VEVENT
END:VCALENDAR