BEGIN:VCALENDAR
VERSION:2.0
CALSCALE:GREGORIAN
PRODID:-//MyApp//Calendar 1.0//EN
BEGIN:VEVENT
METHOD:PUBLISH
UID:63787@regionalniportaly.cz
DTSTAMP:20260421T153317Z
DTSTART;VALUE=DATE:20260410
DTEND;VALUE=DATE:20260411
SUMMARY:LiStOVáNí.cz: Jak se stát diktátorem
DESCRIPTION:LiStOVáNí.cz: JAK SE STÁT DIKTÁTOREM (Mikal Hem)Kdo z nás někdy nesnil o tom\, že bude diktátor a vládnout vlastní zemi nebo celému světu? Tato nekorektní příručka by vám mohla pomoct k tomu proměnit sen v realitu. A to by se v době Putina\, Trumpa a Xi Jinpinga mohlo hodit. S Alanem a Jirkou se dozvíte jak se dostat na vrchol\, jak se na něm udržet\, a jak si svůj čas na výsluní pořádně užít. Inspirací budou nejen výše zmínění mazáci\, ale také Kim Čong-il\, Kaddáfí nebo Ceaușescu. Kniha novináře Mikala Hema skvěle kombinuje černý humor s politickým nadhledem a bude jistě živnou půdou pro interpretaci projektu LiStOVáNí.&nbsp\;účinkují&nbsp\;Alan Novotný a Jiří Resslerv roce&nbsp\;2019 vydalo v překladu Marka Pocestného nakladatelství Edice Knihy Omega&nbsp\;Od 17:30 hodin otevřen vinný bar - Vinotéka Na Míru
LOCATION:Židlochovice
END:VEVENT
END:VCALENDAR