BEGIN:VCALENDAR
VERSION:2.0
CALSCALE:GREGORIAN
PRODID:-//MyApp//Calendar 1.0//EN
BEGIN:VEVENT
METHOD:PUBLISH
UID:63767@regionalniportaly.cz
DTSTAMP:20260421T135621Z
DTSTART;VALUE=DATE:20260412
DTEND;VALUE=DATE:20260413
SUMMARY:OŠKLIVÉ KÁČÁTKO
DESCRIPTION:Divadlo pro děti - Divadlo u staré herečkyrežie a hudba: Jiří Vyšohlídvýprava: Luděk Joskahraje: Jana Vyšohlídová
LOCATION:Židlochovice
END:VEVENT
END:VCALENDAR