BEGIN:VCALENDAR
VERSION:2.0
CALSCALE:GREGORIAN
PRODID:-//MyApp//Calendar 1.0//EN
BEGIN:VEVENT
METHOD:PUBLISH
UID:62938@regionalniportaly.cz
DTSTAMP:20260422T063236Z
DTSTART;VALUE=DATE:20260113
DTEND;VALUE=DATE:20260426
SUMMARY:Od Hromnic k popelci
DESCRIPTION:Zveme vás do interaktivní herny pro rodiny s dětmi v Muzeu Vyškovska.\nVstupte do světa starých zvyků\, písní a obchůzek\, které provázely konec zimy a příchod jara. Připravili jsme pro vás výstavu plnou her\, tvoření a objevování!\nČekají na vás hravé úkoly s hromničkami\, příprava koledních výslužek\, u které si započítáte\, nahlédnete do masopustní kuchyně a s jehlou v ruce vylepšíte masopustní kostým\, který si můžete i obléknout. Zahrajete si u nás loutkové divadlo\, oblečete se a zapochodujete si jako řehořský voják — a pokud se cítíte jako světec\, klidně se v jeho roli můžete vyfotit!\n \nVýstava Od Hromnic k popelci vás zve k objevování tradic předjarního období s písní\, hravostí i radostí z přicházejícího jara.
LOCATION:Vyškov
END:VEVENT
END:VCALENDAR