BEGIN:VCALENDAR
VERSION:2.0
CALSCALE:GREGORIAN
PRODID:-//MyApp//Calendar 1.0//EN
BEGIN:VEVENT
METHOD:PUBLISH
UID:62812@regionalniportaly.cz
DTSTAMP:20260421T135608Z
DTSTART;VALUE=DATE:20260321
DTEND;VALUE=DATE:20260322
SUMMARY:Drobná nehoda
DESCRIPTION:Projekce iránského koprodukčního filmu Drobná nehoda. Po skončení zahraje brněnská kapela Slechni mech.&nbsp\;
LOCATION:Měnín
END:VEVENT
END:VCALENDAR