BEGIN:VCALENDAR
VERSION:2.0
CALSCALE:GREGORIAN
PRODID:-//MyApp//Calendar 1.0//EN
BEGIN:VEVENT
METHOD:PUBLISH
UID:62486@regionalniportaly.cz
DTSTAMP:20260421T153408Z
DTSTART;VALUE=DATE:20260305
DTEND;VALUE=DATE:20260306
SUMMARY:LiStOVáNí.cz: 13!
DESCRIPTION:LiStOVáNí.cz: 13! (Pavel Tomeš)Spisovatel\, nakladatel\, stand-up komik a fanda faktoriálu Pavel Tomeš napsal mozaiku povídek\, která jasně ukazuje\, že žádná tma není tak temná\, aby ji neprozářil černý humor. Autor známého románu o smrti Až na ten konec dobrý získal s Třináctkou Cenu Miloslava Švandrlíka a také nominaci Magnesia Litera v kategorii humoristická kniha. Přijďte se na Listování přesvědčit\, že 13! je šťastné a zábavné číslo.účinkují Pavel Oubram a Zuzana Valešová(alt. Daniela Šišková)v roce 2023 vydalo nakladatelství OTOČ&nbsp\;Od 17:30 hodin otevřen vinný bar - Vinotéka Na Míru
LOCATION:Židlochovice
END:VEVENT
END:VCALENDAR