BEGIN:VCALENDAR
VERSION:2.0
CALSCALE:GREGORIAN
PRODID:-//MyApp//Calendar 1.0//EN
BEGIN:VEVENT
METHOD:PUBLISH
UID:61961@regionalniportaly.cz
DTSTAMP:20260421T153308Z
DTSTART;VALUE=DATE:20260314
DTEND;VALUE=DATE:20260315
SUMMARY:Back to the Oáza - sraz fanoušků diskotéky Oáza
DESCRIPTION:Třetí pokračování vzpomínkové party na diskotéku Oáza ve Vojkovicích.Tentokrát se sejdeme v sobotu 14. března 2026.Opět bude věková hranice pro vstup pouze pro starší 23 let a pro vaše pohodlí a kvalitnější servis bude kapacita omezena na 400 osob.Po celý večer budeme opět hrát vaše nejoblíbenější pecky ze zlaté éry klubu a to z období let 1998 - 2012 a starší.Celý tento večer odehraje rezident našeho klubu Dj Fanatic\, který oslaví 30ti leté výročí za mixážním pultem :)Opět pro vás máme připravený super program a tentokrát ve stylu devadesátek a Milénia.Těšit se můžete na originální retro dekorace v celým klubu\, na projekci vašich vzpomínkových fotek a videoklipů\, na původní tanečnice\, retro fotokoutek a animátory v kostýmech legendárních filmových hvězd. V klubu budou opět umístěny vaše tištěné fotky a plakáty z dávných akcí v klubu.Pro 3 nejlepší retro outfity budou připraveny vouchery na bar v hodnotě 1000 Kč.Klub bude otevřen od 21:00.Vstupenky zakoupíte v síti SMSticket do 13.3. za 150 Kč.5 z těch\, kdo zakoupí vstupenku v předprodeji budou odměnění tričkem Dje Fanatika&nbsp\;Těšíme se na vás!&nbsp\;
LOCATION:Vojkovice
END:VEVENT
END:VCALENDAR