BEGIN:VCALENDAR
VERSION:2.0
CALSCALE:GREGORIAN
PRODID:-//MyApp//Calendar 1.0//EN
BEGIN:VEVENT
METHOD:PUBLISH
UID:61760@regionalniportaly.cz
DTSTAMP:20260421T172320Z
DTSTART;VALUE=DATE:20260307
DTEND;VALUE=DATE:20260308
SUMMARY:Muzika na Sokecu: Pavel Čadek a Úcellová skupina
DESCRIPTION:Pavel Čadek je mladý český písničkář doprovázející se na violoncello - je tak jediný svého druhu. Má za sebou 4 vydaná alba\, desítky videoklipů a společné písně například s Xindlem X\, Pokáčem\, Michalem Horákem\, Tali nebo Terezií Kovalovou. Jeho třetí album Stepní vlk získalo nejužší nominaci na cenu Anděl v kategorii Folk. Do nejširšího povědomí se dostaly písně Nestíhám\, Utekla mi s ajťákem nebo například Prsa (duet s Michalem Horákem od Pana Fenka). Ač se jedná bez výjimky o humorné písně\, velkou část publika si Pavel Čadek získává svou vážnější či lyrickou tvorbou\, kterou při vystoupeních vkusně střídá s humorem.Úcellovou skupinu tvoří Pavlovi spoluhráči - akordeonista Ondřej Zámečník a bubeník Adam Sikora. Název Úcellová vychází z faktu\, že hrají u cella.
LOCATION:Hrušovany u Brna
END:VEVENT
END:VCALENDAR