BEGIN:VCALENDAR
VERSION:2.0
CALSCALE:GREGORIAN
PRODID:-//MyApp//Calendar 1.0//EN
BEGIN:VEVENT
METHOD:PUBLISH
UID:61734@regionalniportaly.cz
DTSTAMP:20260422T091504Z
DTSTART;VALUE=DATE:20260205
DTEND;VALUE=DATE:20260206
SUMMARY:Aleš Svoboda - Špilberk
DESCRIPTION:Odhalíme tajemství podzemních prostor pod Špilberkem\, dozvíme se o tajné cestě z hradu i o novodobé nedokončené tramvajové štole pod&nbsp\;špilberským kopcem.Dalším tématem bude hradní studna – tajemství ukrytá na dně jedné z nejhlubších studní v českých zemích.Přednášku zakončíme protileteckým krytem a druhou studnou na úbočí kopce\, která zatím nebyla zpřístupněna pro veřejnost.Ing. Aleš SvobodaArchitekt\, projektant\, ale především znalec a badatel brněnského podzemí\, který znovuobjevil pro své současníky kouzlo a&nbsp\;tajemství podzemního města!
LOCATION:Měnín
END:VEVENT
END:VCALENDAR