BEGIN:VCALENDAR
VERSION:2.0
CALSCALE:GREGORIAN
PRODID:-//MyApp//Calendar 1.0//EN
BEGIN:VEVENT
METHOD:PUBLISH
UID:61307@regionalniportaly.cz
DTSTAMP:20260422T061020Z
DTSTART;VALUE=DATE:20260130
DTEND;VALUE=DATE:20260131
SUMMARY:Šviháci
DESCRIPTION:
LOCATION:Měnín
END:VEVENT
END:VCALENDAR