BEGIN:VCALENDAR
VERSION:2.0
CALSCALE:GREGORIAN
PRODID:-//MyApp//Calendar 1.0//EN
BEGIN:VEVENT
METHOD:PUBLISH
UID:61302@regionalniportaly.cz
DTSTAMP:20260422T083558Z
DTSTART;VALUE=DATE:20260123
DTEND;VALUE=DATE:20260124
SUMMARY:Hamnet
DESCRIPTION:
LOCATION:Měnín
END:VEVENT
END:VCALENDAR