BEGIN:VCALENDAR
VERSION:2.0
CALSCALE:GREGORIAN
PRODID:-//MyApp//Calendar 1.0//EN
BEGIN:VEVENT
METHOD:PUBLISH
UID:61301@regionalniportaly.cz
DTSTAMP:20260422T112707Z
DTSTART;VALUE=DATE:20260109
DTEND;VALUE=DATE:20260110
SUMMARY:Dream Team
DESCRIPTION:
LOCATION:Měnín
END:VEVENT
END:VCALENDAR