BEGIN:VCALENDAR
VERSION:2.0
CALSCALE:GREGORIAN
PRODID:-//MyApp//Calendar 1.0//EN
BEGIN:VEVENT
METHOD:PUBLISH
UID:60447@regionalniportaly.cz
DTSTAMP:20260421T135651Z
DTSTART;VALUE=DATE:20260328
DTEND;VALUE=DATE:20260329
SUMMARY:ABBA REVIVAL
DESCRIPTION:V Orlovně Mělčany vystoupí skvělá skupina ABBA Chiquita Revival z Olomouce\, která se specializuje na živé provedení největších hitů legendární švédské skupiny ABBA. Kapela vznikla v roce 2001 a od té doby pravidelně koncertuje na domácí i zahraniční scéně. Jejich vystoupení jsou plná energie\, skvělé hudby a nezapomenutelné atmosféry.Během večera se můžete těšit na výborné jídlo\, pití a skvělou zábavu.Představení bude trvat 2× 45 minut s pauzou.Lístky jsou pro pohodlí k sezení\, ale prostor pro tanec bude také připraven.
LOCATION:Mělčany
END:VEVENT
END:VCALENDAR