BEGIN:VCALENDAR
VERSION:2.0
CALSCALE:GREGORIAN
PRODID:-//MyApp//Calendar 1.0//EN
BEGIN:VEVENT
METHOD:PUBLISH
UID:60397@regionalniportaly.cz
DTSTAMP:20260422T115449Z
DTSTART;VALUE=DATE:20251219
DTEND;VALUE=DATE:20251220
SUMMARY:Avatar: Oheň a popel
DESCRIPTION:
LOCATION:Měnín
END:VEVENT
END:VCALENDAR