BEGIN:VCALENDAR
VERSION:2.0
CALSCALE:GREGORIAN
PRODID:-//MyApp//Calendar 1.0//EN
BEGIN:VEVENT
METHOD:PUBLISH
UID:59815@regionalniportaly.cz
DTSTAMP:20260420T164842Z
DTSTART;VALUE=DATE:20260612
DTEND;VALUE=DATE:20260614
SUMMARY:ObrFest 2026
DESCRIPTION:Začátek léta v Brně? Jedině na ObrFestu! 🔥12.–13. června\, 3 hudební scény\, autorská čtení\, sousedská atmosféra a doprovodný program\, který zabaví malé i velké...&nbsp\;Potvrzení vystupující:- Bert &amp\; Friends- WWW Neurobeat- Berlin Manson (SK)- Gufrau- Anki- Athena Chlebová- Baiba (AT/LV)- BearCloud- Edúv Syn (SK)- Krabs- Krstní Otcovia (SK)- Kyšperský Háblová- Lichnovský- Madhouse Express- Palma- Petrofski- Pokoj25- Pony Pracht (DE)- Severní nástupiště- Ursula Sereghy- Sýček- Visions In Clouds (CH)- Yasha 96a další...
LOCATION:Brno
END:VEVENT
END:VCALENDAR